BEGIN:VCALENDAR
VERSION:2.0
PRODID:-//www.eastwestcatholicschools.org//NONSGML kigkonsult.se iCalcreato
 r 2.30.10//
CALSCALE:GREGORIAN
METHOD:PUBLISH
UID:f1b93a58-6d27-4f3a-b028-b8ffc25e71c0
X-WR-CALDESC:
X-WR-RELCALID:69df3047852dd9b66e50f6581a0487d5
X-WR-TIMEZONE:America/Chicago
BEGIN:VTIMEZONE
TZID:America/Chicago
BEGIN:STANDARD
TZNAME:CST
DTSTART:20191103T020000
TZOFFSETFROM:-0500
TZOFFSETTO:-0600
RDATE:20201101T020000
END:STANDARD
BEGIN:DAYLIGHT
TZNAME:CDT
DTSTART:20190310T020000
TZOFFSETFROM:-0600
TZOFFSETTO:-0500
RDATE:20200308T020000
RDATE:20210314T020000
END:DAYLIGHT
END:VTIMEZONE
BEGIN:VEVENT
UID:76ca5ca0-6b3a-41e3-897a-876a35701775
DTSTAMP:20260424T083501Z
DESCRIPTION:
DTSTART;TZID=America/Chicago:20200115T000000
DTEND;TZID=America/Chicago:20200115T235900
LOCATION:
SUMMARY:2:50 Early Out - PLC
END:VEVENT
END:VCALENDAR
