BEGIN:VCALENDAR
VERSION:2.0
PRODID:-//www.eastwestcatholicschools.org//NONSGML kigkonsult.se iCalcreato
 r 2.30.10//
CALSCALE:GREGORIAN
METHOD:PUBLISH
UID:334b6530-dd41-41b9-99e0-70ae3961bb37
X-WR-CALDESC:
X-WR-RELCALID:69a0be8c6dfb1095c930fcfa4b4c34f0
X-WR-TIMEZONE:America/Chicago
BEGIN:VTIMEZONE
TZID:America/Chicago
BEGIN:STANDARD
TZNAME:CST
DTSTART:20211107T020000
TZOFFSETFROM:-0500
TZOFFSETTO:-0600
RDATE:20221106T020000
END:STANDARD
BEGIN:DAYLIGHT
TZNAME:CDT
DTSTART:20210314T020000
TZOFFSETFROM:-0600
TZOFFSETTO:-0500
RDATE:20220313T020000
RDATE:20230312T020000
END:DAYLIGHT
END:VTIMEZONE
BEGIN:VEVENT
UID:2b737635-e61d-45bd-979b-25470fdb60ba
DTSTAMP:20260419T232917Z
DESCRIPTION:
DTSTART;TZID=America/Chicago:20211110T000000
DTEND;TZID=America/Chicago:20211110T235900
LOCATION:
SUMMARY:Admin. Meeting
END:VEVENT
END:VCALENDAR
