BEGIN:VCALENDAR
VERSION:2.0
PRODID:-//www.eastwestcatholicschools.org//NONSGML kigkonsult.se iCalcreato
 r 2.30.10//
CALSCALE:GREGORIAN
METHOD:PUBLISH
UID:95907d03-9fa8-411d-9d80-9d116dd67438
X-WR-CALDESC:
X-WR-RELCALID:a37ba1a55faa557480bf38ce57d5b59a
X-WR-TIMEZONE:America/Chicago
BEGIN:VTIMEZONE
TZID:America/Chicago
BEGIN:STANDARD
TZNAME:CST
DTSTART:20221106T020000
TZOFFSETFROM:-0500
TZOFFSETTO:-0600
RDATE:20231105T020000
END:STANDARD
BEGIN:DAYLIGHT
TZNAME:CDT
DTSTART:20220313T020000
TZOFFSETFROM:-0600
TZOFFSETTO:-0500
RDATE:20230312T020000
RDATE:20240310T020000
END:DAYLIGHT
END:VTIMEZONE
BEGIN:VEVENT
UID:72e26996-6e8b-4767-94b7-011fd585c18c
DTSTAMP:20260419T175000Z
DESCRIPTION:
DTSTART;TZID=America/Chicago:20221204T140000
DTEND;TZID=America/Chicago:20221204T150000
LOCATION:
SUMMARY:Christmas Concert
END:VEVENT
END:VCALENDAR
