BEGIN:VCALENDAR
VERSION:2.0
PRODID:-//www.eastwestcatholicschools.org//NONSGML kigkonsult.se iCalcreato
 r 2.30.10//
CALSCALE:GREGORIAN
METHOD:PUBLISH
UID:b32817ac-5545-4539-a21d-74f9783c3c59
X-WR-CALDESC:
X-WR-RELCALID:f86d70c73dcfd225d6e54bbf41d1ef33
X-WR-TIMEZONE:America/Chicago
BEGIN:VTIMEZONE
TZID:America/Chicago
BEGIN:STANDARD
TZNAME:CST
DTSTART:20231105T020000
TZOFFSETFROM:-0500
TZOFFSETTO:-0600
RDATE:20241103T020000
RDATE:20251102T020000
END:STANDARD
BEGIN:DAYLIGHT
TZNAME:CDT
DTSTART:20240310T020000
TZOFFSETFROM:-0600
TZOFFSETTO:-0500
RDATE:20250309T020000
RDATE:20260308T020000
END:DAYLIGHT
END:VTIMEZONE
BEGIN:VEVENT
UID:90bf6ade-350f-49e7-bd5a-ff1507644bd9
DTSTAMP:20260421T123652Z
DESCRIPTION:
DTSTART;TZID=America/Chicago:20241101T050000
DTEND;TZID=America/Chicago:20241101T050001
LOCATION:Ss. Peter & Paul Church
SUMMARY:All Saints Day / 11:15 Mass
END:VEVENT
END:VCALENDAR
