BEGIN:VCALENDAR
VERSION:2.0
PRODID:-//www.eastwestcatholicschools.org//NONSGML kigkonsult.se iCalcreato
 r 2.30.10//
CALSCALE:GREGORIAN
METHOD:PUBLISH
UID:816a0b79-ea19-4a42-a03d-7ced47d59cde
X-WR-CALDESC:
X-WR-RELCALID:49ce5ede35b85a9a70ccca062c6d9dd8
X-WR-TIMEZONE:America/Chicago
BEGIN:VTIMEZONE
TZID:America/Chicago
BEGIN:STANDARD
TZNAME:CST
DTSTART:20231105T020000
TZOFFSETFROM:-0500
TZOFFSETTO:-0600
RDATE:20241103T020000
RDATE:20251102T020000
END:STANDARD
BEGIN:DAYLIGHT
TZNAME:CDT
DTSTART:20240310T020000
TZOFFSETFROM:-0600
TZOFFSETTO:-0500
RDATE:20250309T020000
RDATE:20260308T020000
END:DAYLIGHT
END:VTIMEZONE
BEGIN:VEVENT
UID:f7e4c97e-657b-42dc-9d27-f1d31bf82c4a
DTSTAMP:20260421T084341Z
DESCRIPTION:
DTSTART;TZID=America/Chicago:20241101T050000
DTEND;TZID=America/Chicago:20241101T050001
LOCATION:
SUMMARY:Saint Family Activity w/ Spiritual Grandparents
END:VEVENT
END:VCALENDAR
