BEGIN:VCALENDAR
VERSION:2.0
PRODID:-//www.eastwestcatholicschools.org//NONSGML kigkonsult.se iCalcreato
 r 2.30.10//
CALSCALE:GREGORIAN
METHOD:PUBLISH
UID:fb76b0c9-6143-4fd4-817e-1244e4070602
X-WR-CALDESC:
X-WR-RELCALID:0a74a8b45328213c53556346f3abb6f4
X-WR-TIMEZONE:America/Chicago
BEGIN:VTIMEZONE
TZID:America/Chicago
BEGIN:STANDARD
TZNAME:CST
DTSTART:20241103T020000
TZOFFSETFROM:-0500
TZOFFSETTO:-0600
RDATE:20251102T020000
END:STANDARD
BEGIN:DAYLIGHT
TZNAME:CDT
DTSTART:20240310T020000
TZOFFSETFROM:-0600
TZOFFSETTO:-0500
RDATE:20250309T020000
RDATE:20260308T020000
END:DAYLIGHT
END:VTIMEZONE
BEGIN:VEVENT
UID:2a8d7288-5257-473f-8b86-1497fcbfbeb9
DTSTAMP:20260421T085136Z
DESCRIPTION:
DTSTART;TZID=America/Chicago:20241214T050000
DTEND;TZID=America/Chicago:20241214T050001
LOCATION:
SUMMARY:CCHS Booster Club BB Tourn
END:VEVENT
END:VCALENDAR
