BEGIN:VCALENDAR
VERSION:2.0
PRODID:-//www.eastwestcatholicschools.org//NONSGML kigkonsult.se iCalcreato
 r 2.30.10//
CALSCALE:GREGORIAN
METHOD:PUBLISH
UID:4b77d0c2-c94e-4ec4-b7ee-35dcaada5525
X-WR-CALDESC:
X-WR-RELCALID:ccda3a11bd9f006a1b86d2bb5f760b9e
X-WR-TIMEZONE:America/Chicago
BEGIN:VTIMEZONE
TZID:America/Chicago
BEGIN:STANDARD
TZNAME:CST
DTSTART:20241103T020000
TZOFFSETFROM:-0500
TZOFFSETTO:-0600
RDATE:20251102T020000
END:STANDARD
BEGIN:DAYLIGHT
TZNAME:CDT
DTSTART:20240310T020000
TZOFFSETFROM:-0600
TZOFFSETTO:-0500
RDATE:20250309T020000
RDATE:20260308T020000
END:DAYLIGHT
END:VTIMEZONE
BEGIN:VEVENT
UID:9d80e59c-80c9-4bfe-9686-1bd240adc198
DTSTAMP:20260420T083947Z
DESCRIPTION:
DTSTART;TZID=America/Chicago:20241221T103000
DTEND;TZID=America/Chicago:20241221T113000
LOCATION:Ss. Peter & Paul Church
SUMMARY:1st Reconciliation
END:VEVENT
END:VCALENDAR
