BEGIN:VCALENDAR
VERSION:2.0
PRODID:-//www.eastwestcatholicschools.org//NONSGML kigkonsult.se iCalcreato
 r 2.30.10//
CALSCALE:GREGORIAN
METHOD:PUBLISH
UID:c55408eb-b742-4200-abb5-de09e48987b2
X-WR-CALDESC:
X-WR-RELCALID:1fdc3eab4f296ddf07478da547479748
X-WR-TIMEZONE:America/Chicago
BEGIN:VTIMEZONE
TZID:America/Chicago
BEGIN:STANDARD
TZNAME:CST
DTSTART:20241103T020000
TZOFFSETFROM:-0500
TZOFFSETTO:-0600
RDATE:20251102T020000
END:STANDARD
BEGIN:DAYLIGHT
TZNAME:CDT
DTSTART:20240310T020000
TZOFFSETFROM:-0600
TZOFFSETTO:-0500
RDATE:20250309T020000
RDATE:20260308T020000
END:DAYLIGHT
END:VTIMEZONE
BEGIN:VEVENT
UID:b40efeae-044d-4b12-a343-a39131a551b1
DTSTAMP:20260420T095059Z
DESCRIPTION:
DTSTART;TZID=America/Chicago:20250105T170000
DTEND;TZID=America/Chicago:20250105T190000
LOCATION:
SUMMARY:Cath. Development Blue Ribbon Committee Social
END:VEVENT
END:VCALENDAR
