BEGIN:VCALENDAR
VERSION:2.0
PRODID:-//www.eastwestcatholicschools.org//NONSGML kigkonsult.se iCalcreato
 r 2.30.10//
CALSCALE:GREGORIAN
METHOD:PUBLISH
UID:0c349339-6c77-48ca-9b39-727dc2b6f7d8
X-WR-CALDESC:
X-WR-RELCALID:71aec153e4e1e858339868e75ee76e52
X-WR-TIMEZONE:America/Chicago
BEGIN:VTIMEZONE
TZID:America/Chicago
BEGIN:STANDARD
TZNAME:CST
DTSTART:20241103T020000
TZOFFSETFROM:-0500
TZOFFSETTO:-0600
RDATE:20251102T020000
END:STANDARD
BEGIN:DAYLIGHT
TZNAME:CDT
DTSTART:20240310T020000
TZOFFSETFROM:-0600
TZOFFSETTO:-0500
RDATE:20250309T020000
RDATE:20260308T020000
END:DAYLIGHT
END:VTIMEZONE
BEGIN:VEVENT
UID:55ec8141-9183-4ce5-a11c-acad74c9b8ab
DTSTAMP:20260420T095252Z
DESCRIPTION:
DTSTART;TZID=America/Chicago:20250106T050000
DTEND;TZID=America/Chicago:20250106T050001
LOCATION:
SUMMARY:School resumes
END:VEVENT
END:VCALENDAR
