BEGIN:VCALENDAR
VERSION:2.0
PRODID:-//www.eastwestcatholicschools.org//NONSGML kigkonsult.se iCalcreato
 r 2.30.10//
CALSCALE:GREGORIAN
METHOD:PUBLISH
UID:b30417e4-c9f0-4036-b08a-04850fe85428
X-WR-CALDESC:
X-WR-RELCALID:769868b2dd187f0ea50aaf14245f67cf
X-WR-TIMEZONE:America/Chicago
BEGIN:VTIMEZONE
TZID:America/Chicago
BEGIN:STANDARD
TZNAME:CST
DTSTART:20241103T020000
TZOFFSETFROM:-0500
TZOFFSETTO:-0600
RDATE:20251102T020000
END:STANDARD
BEGIN:DAYLIGHT
TZNAME:CDT
DTSTART:20240310T020000
TZOFFSETFROM:-0600
TZOFFSETTO:-0500
RDATE:20250309T020000
RDATE:20260308T020000
END:DAYLIGHT
END:VTIMEZONE
BEGIN:VEVENT
UID:02693dd2-255a-4db1-96aa-aac0d0c63d10
DTSTAMP:20260422T095814Z
DESCRIPTION:
DTSTART;TZID=America/Chicago:20250131T133000
DTEND;TZID=America/Chicago:20250131T143000
LOCATION:Ss. Peter & Paul Church
SUMMARY:CCCS Mass
END:VEVENT
END:VCALENDAR
