BEGIN:VCALENDAR
VERSION:2.0
PRODID:-//www.eastwestcatholicschools.org//NONSGML kigkonsult.se iCalcreato
 r 2.30.10//
CALSCALE:GREGORIAN
METHOD:PUBLISH
UID:9a7980f1-30d5-4537-9388-c192153473e1
X-WR-CALDESC:
X-WR-RELCALID:ab48e4b0604f366e1d67251ba43ca160
X-WR-TIMEZONE:America/Chicago
BEGIN:VTIMEZONE
TZID:America/Chicago
BEGIN:STANDARD
TZNAME:CST
DTSTART:20241103T020000
TZOFFSETFROM:-0500
TZOFFSETTO:-0600
RDATE:20251102T020000
END:STANDARD
BEGIN:DAYLIGHT
TZNAME:CDT
DTSTART:20240310T020000
TZOFFSETFROM:-0600
TZOFFSETTO:-0500
RDATE:20250309T020000
RDATE:20260308T020000
END:DAYLIGHT
END:VTIMEZONE
BEGIN:VEVENT
UID:3bac9505-f169-4c47-b905-1c585ce64f32
DTSTAMP:20260421T175841Z
DESCRIPTION:
DTSTART;TZID=America/Chicago:20250214T050000
DTEND;TZID=America/Chicago:20250214T050001
LOCATION:
SUMMARY:Parent-Teacher Conferences / No School
END:VEVENT
END:VCALENDAR
