BEGIN:VCALENDAR
VERSION:2.0
PRODID:-//www.eastwestcatholicschools.org//NONSGML kigkonsult.se iCalcreato
 r 2.30.10//
CALSCALE:GREGORIAN
METHOD:PUBLISH
UID:986b6db3-4744-4382-89e5-12d54ebd5c81
X-WR-CALDESC:
X-WR-RELCALID:02b0b79542d0ed6d355e0d383072e2b3
X-WR-TIMEZONE:America/Chicago
BEGIN:VTIMEZONE
TZID:America/Chicago
BEGIN:STANDARD
TZNAME:CST
DTSTART:20241103T020000
TZOFFSETFROM:-0500
TZOFFSETTO:-0600
RDATE:20251102T020000
END:STANDARD
BEGIN:DAYLIGHT
TZNAME:CDT
DTSTART:20250309T020000
TZOFFSETFROM:-0600
TZOFFSETTO:-0500
RDATE:20260308T020000
END:DAYLIGHT
END:VTIMEZONE
BEGIN:VEVENT
UID:93107e8e-5ce0-42e3-955a-75ae9e9100ec
DTSTAMP:20260421T161734Z
DESCRIPTION:
DTSTART;TZID=America/Chicago:20250314T050000
DTEND;TZID=America/Chicago:20250314T050001
LOCATION:
SUMMARY:No School - Spring Break
END:VEVENT
END:VCALENDAR
