BEGIN:VCALENDAR
VERSION:2.0
PRODID:-//www.eastwestcatholicschools.org//NONSGML kigkonsult.se iCalcreato
 r 2.30.10//
CALSCALE:GREGORIAN
METHOD:PUBLISH
UID:e61873e5-6390-424b-89f3-7419dd5b9f05
X-WR-CALDESC:
X-WR-RELCALID:baa752eac23beeeeff3ba089be0d8d05
X-WR-TIMEZONE:America/Chicago
BEGIN:VTIMEZONE
TZID:America/Chicago
BEGIN:STANDARD
TZNAME:CST
DTSTART:20241103T020000
TZOFFSETFROM:-0500
TZOFFSETTO:-0600
RDATE:20251102T020000
END:STANDARD
BEGIN:DAYLIGHT
TZNAME:CDT
DTSTART:20250309T020000
TZOFFSETFROM:-0600
TZOFFSETTO:-0500
RDATE:20260308T020000
END:DAYLIGHT
END:VTIMEZONE
BEGIN:VEVENT
UID:494da99a-ceed-4e66-8089-588fd9893ff0
DTSTAMP:20260421T161354Z
DESCRIPTION:
DTSTART;TZID=America/Chicago:20250326T114500
DTEND;TZID=America/Chicago:20250326T153000
LOCATION:
SUMMARY:6th Grade Orientation
END:VEVENT
END:VCALENDAR
