BEGIN:VCALENDAR
VERSION:2.0
PRODID:-//www.eastwestcatholicschools.org//NONSGML kigkonsult.se iCalcreato
 r 2.30.10//
CALSCALE:GREGORIAN
METHOD:PUBLISH
UID:789e70f8-8115-445e-a30e-4e91737dd925
X-WR-CALDESC:
X-WR-RELCALID:e7201dd8df58c8b1d20a7f30cf9d33bc
X-WR-TIMEZONE:America/Chicago
BEGIN:VTIMEZONE
TZID:America/Chicago
BEGIN:STANDARD
TZNAME:CST
DTSTART:20241103T020000
TZOFFSETFROM:-0500
TZOFFSETTO:-0600
RDATE:20251102T020000
END:STANDARD
BEGIN:DAYLIGHT
TZNAME:CDT
DTSTART:20250309T020000
TZOFFSETFROM:-0600
TZOFFSETTO:-0500
RDATE:20260308T020000
END:DAYLIGHT
END:VTIMEZONE
BEGIN:VEVENT
UID:b642313c-5e3d-4219-8b35-16a9cb8586f5
DTSTAMP:20260421T161656Z
DESCRIPTION:
DTSTART;TZID=America/Chicago:20250327T080000
DTEND;TZID=America/Chicago:20250328T180000
LOCATION:
SUMMARY:Silent Auction Preview
END:VEVENT
END:VCALENDAR
