BEGIN:VCALENDAR
VERSION:2.0
PRODID:-//www.eastwestcatholicschools.org//NONSGML kigkonsult.se iCalcreato
 r 2.30.10//
CALSCALE:GREGORIAN
METHOD:PUBLISH
UID:c69ad39a-972c-493b-a863-4273479829bf
X-WR-CALDESC:
X-WR-RELCALID:69ea4305bb7e4bf75e75ded22eed1d30
X-WR-TIMEZONE:America/Chicago
BEGIN:VTIMEZONE
TZID:America/Chicago
BEGIN:STANDARD
TZNAME:CST
DTSTART:20241103T020000
TZOFFSETFROM:-0500
TZOFFSETTO:-0600
RDATE:20251102T020000
END:STANDARD
BEGIN:DAYLIGHT
TZNAME:CDT
DTSTART:20250309T020000
TZOFFSETFROM:-0600
TZOFFSETTO:-0500
RDATE:20260308T020000
END:DAYLIGHT
END:VTIMEZONE
BEGIN:VEVENT
UID:59a2d9e5-1de5-49b0-b541-979b47e1e7f6
DTSTAMP:20260421T161354Z
DESCRIPTION:
DTSTART;TZID=America/Chicago:20250329T050000
DTEND;TZID=America/Chicago:20250329T050001
LOCATION:
SUMMARY:CCCS Gala
END:VEVENT
END:VCALENDAR
