BEGIN:VCALENDAR
VERSION:2.0
PRODID:-//www.eastwestcatholicschools.org//NONSGML kigkonsult.se iCalcreato
 r 2.30.10//
CALSCALE:GREGORIAN
METHOD:PUBLISH
UID:a6763f98-95e5-4ed4-b49c-9d88d382b3e7
X-WR-CALDESC:
X-WR-RELCALID:950b10871cb889c1050e769d42d0fbed
X-WR-TIMEZONE:America/Chicago
BEGIN:VTIMEZONE
TZID:America/Chicago
BEGIN:STANDARD
TZNAME:CST
DTSTART:20241103T020000
TZOFFSETFROM:-0500
TZOFFSETTO:-0600
RDATE:20251102T020000
END:STANDARD
BEGIN:DAYLIGHT
TZNAME:CDT
DTSTART:20250309T020000
TZOFFSETFROM:-0600
TZOFFSETTO:-0500
RDATE:20260308T020000
END:DAYLIGHT
END:VTIMEZONE
BEGIN:VEVENT
UID:7b36c9f9-235e-4d78-9ba5-0ee5d462c8c6
DTSTAMP:20260421T144525Z
DESCRIPTION:
DTSTART;TZID=America/Chicago:20250403T140000
DTEND;TZID=America/Chicago:20250403T150000
LOCATION:EWC
SUMMARY:Kindergarten Camp (Kindergarten Round-UP)
END:VEVENT
END:VCALENDAR
