BEGIN:VCALENDAR
VERSION:2.0
PRODID:-//www.eastwestcatholicschools.org//NONSGML kigkonsult.se iCalcreato
 r 2.30.10//
CALSCALE:GREGORIAN
METHOD:PUBLISH
UID:a26eff17-0441-4427-aeaa-24c3072d7882
X-WR-CALDESC:
X-WR-RELCALID:b18fe05bfa785f01b32584268df44809
X-WR-TIMEZONE:America/Chicago
BEGIN:VTIMEZONE
TZID:America/Chicago
BEGIN:STANDARD
TZNAME:CST
DTSTART:20241103T020000
TZOFFSETFROM:-0500
TZOFFSETTO:-0600
RDATE:20251102T020000
END:STANDARD
BEGIN:DAYLIGHT
TZNAME:CDT
DTSTART:20250309T020000
TZOFFSETFROM:-0600
TZOFFSETTO:-0500
RDATE:20260308T020000
END:DAYLIGHT
END:VTIMEZONE
BEGIN:VEVENT
UID:7a1f45d0-5a35-47ad-a92d-78d38a5bdf41
DTSTAMP:20260421T144411Z
DESCRIPTION:
DTSTART;TZID=America/Chicago:20250413T050000
DTEND;TZID=America/Chicago:20250413T050001
LOCATION:St. John Parish Hall\, Fordyce
SUMMARY:EWC Soup & Pie Luncheon
END:VEVENT
END:VCALENDAR
