BEGIN:VCALENDAR
VERSION:2.0
PRODID:-//www.eastwestcatholicschools.org//NONSGML kigkonsult.se iCalcreato
 r 2.30.10//
CALSCALE:GREGORIAN
METHOD:PUBLISH
UID:caf68625-8d30-4cff-8e2b-90b26fc3d005
X-WR-CALDESC:
X-WR-RELCALID:8f592068bbe0cdcb5585e5f4e1c84bad
X-WR-TIMEZONE:America/Chicago
BEGIN:VTIMEZONE
TZID:America/Chicago
BEGIN:STANDARD
TZNAME:CST
DTSTART:20241103T020000
TZOFFSETFROM:-0500
TZOFFSETTO:-0600
RDATE:20251102T020000
END:STANDARD
BEGIN:DAYLIGHT
TZNAME:CDT
DTSTART:20250309T020000
TZOFFSETFROM:-0600
TZOFFSETTO:-0500
RDATE:20260308T020000
END:DAYLIGHT
END:VTIMEZONE
BEGIN:VEVENT
UID:904a6da3-6f4b-40d4-9141-aeb668e517fc
DTSTAMP:20260421T144339Z
DESCRIPTION:
DTSTART;TZID=America/Chicago:20250415T080000
DTEND;TZID=America/Chicago:20250415T093000
LOCATION:Ss. Peter & Paul Church
SUMMARY:Prayer Friend Mass
END:VEVENT
END:VCALENDAR
