BEGIN:VCALENDAR
VERSION:2.0
PRODID:-//www.eastwestcatholicschools.org//NONSGML kigkonsult.se iCalcreato
 r 2.30.10//
CALSCALE:GREGORIAN
METHOD:PUBLISH
UID:2641c745-4260-4c2e-bb24-b0e56395e438
X-WR-CALDESC:
X-WR-RELCALID:8e3c8e017fc3af2a1cedc3f38e51614c
X-WR-TIMEZONE:America/Chicago
BEGIN:VTIMEZONE
TZID:America/Chicago
BEGIN:STANDARD
TZNAME:CST
DTSTART:20241103T020000
TZOFFSETFROM:-0500
TZOFFSETTO:-0600
RDATE:20251102T020000
END:STANDARD
BEGIN:DAYLIGHT
TZNAME:CDT
DTSTART:20250309T020000
TZOFFSETFROM:-0600
TZOFFSETTO:-0500
RDATE:20260308T020000
END:DAYLIGHT
END:VTIMEZONE
BEGIN:VEVENT
UID:f3e607c3-fad4-4ae1-b3cf-2be5db352c86
DTSTAMP:20260421T144656Z
DESCRIPTION:
DTSTART;TZID=America/Chicago:20250424T190000
DTEND;TZID=America/Chicago:20250424T203000
LOCATION:
SUMMARY:Spring Concert / Kindergarten Graduation
END:VEVENT
END:VCALENDAR
