BEGIN:VCALENDAR
VERSION:2.0
PRODID:-//www.eastwestcatholicschools.org//NONSGML kigkonsult.se iCalcreato
 r 2.30.10//
CALSCALE:GREGORIAN
METHOD:PUBLISH
UID:14f589b6-9e37-4d01-ae8a-d356ef93eec0
X-WR-CALDESC:
X-WR-RELCALID:a8c3dba73624bdd21ed767bb115729c3
X-WR-TIMEZONE:America/Chicago
BEGIN:VTIMEZONE
TZID:America/Chicago
BEGIN:STANDARD
TZNAME:CST
DTSTART:20241103T020000
TZOFFSETFROM:-0500
TZOFFSETTO:-0600
RDATE:20251102T020000
END:STANDARD
BEGIN:DAYLIGHT
TZNAME:CDT
DTSTART:20250309T020000
TZOFFSETFROM:-0600
TZOFFSETTO:-0500
RDATE:20260308T020000
END:DAYLIGHT
END:VTIMEZONE
BEGIN:VEVENT
UID:d635e907-9bbf-43a6-8786-b71d32127657
DTSTAMP:20260421T144211Z
DESCRIPTION:
DTSTART;TZID=America/Chicago:20250427T050000
DTEND;TZID=America/Chicago:20250427T050001
LOCATION:
SUMMARY:1st Communion
END:VEVENT
END:VCALENDAR
