BEGIN:VCALENDAR
VERSION:2.0
PRODID:-//www.eastwestcatholicschools.org//NONSGML kigkonsult.se iCalcreato
 r 2.30.10//
CALSCALE:GREGORIAN
METHOD:PUBLISH
UID:f652117e-37dd-4226-8b15-35c7046b0a55
X-WR-CALDESC:
X-WR-RELCALID:7dc75727c6249792883d701bdd13c3ec
X-WR-TIMEZONE:America/Chicago
BEGIN:VTIMEZONE
TZID:America/Chicago
BEGIN:STANDARD
TZNAME:CST
DTSTART:20241103T020000
TZOFFSETFROM:-0500
TZOFFSETTO:-0600
RDATE:20251102T020000
RDATE:20261101T020000
END:STANDARD
BEGIN:DAYLIGHT
TZNAME:CDT
DTSTART:20250309T020000
TZOFFSETFROM:-0600
TZOFFSETTO:-0500
RDATE:20260308T020000
END:DAYLIGHT
END:VTIMEZONE
BEGIN:VEVENT
UID:fc984ac1-1072-4969-8ec5-c436c9a9b876
DTSTAMP:20260421T125403Z
DESCRIPTION:
DTSTART;TZID=America/Chicago:20250502T050000
DTEND;TZID=America/Chicago:20250502T050001
LOCATION:Fordyce
SUMMARY:5 Year Celebration / Track & Field Day
END:VEVENT
END:VCALENDAR
