BEGIN:VCALENDAR
VERSION:2.0
PRODID:-//www.eastwestcatholicschools.org//NONSGML kigkonsult.se iCalcreato
 r 2.30.10//
CALSCALE:GREGORIAN
METHOD:PUBLISH
UID:dedbe984-e164-4d89-ae7e-389b9cee024f
X-WR-CALDESC:
X-WR-RELCALID:63ab2f96c75f243c6cc44f4d347a90af
X-WR-TIMEZONE:America/Chicago
BEGIN:VTIMEZONE
TZID:America/Chicago
BEGIN:STANDARD
TZNAME:CST
DTSTART:20241103T020000
TZOFFSETFROM:-0500
TZOFFSETTO:-0600
RDATE:20251102T020000
RDATE:20261101T020000
END:STANDARD
BEGIN:DAYLIGHT
TZNAME:CDT
DTSTART:20250309T020000
TZOFFSETFROM:-0600
TZOFFSETTO:-0500
RDATE:20260308T020000
END:DAYLIGHT
END:VTIMEZONE
BEGIN:VEVENT
UID:02cda0a1-e46b-4da1-93de-527b961eb863
DTSTAMP:20260421T130221Z
DESCRIPTION:
DTSTART;TZID=America/Chicago:20250510T050000
DTEND;TZID=America/Chicago:20250510T050001
LOCATION:
SUMMARY:Cedar Catholic Graduation
END:VEVENT
END:VCALENDAR
