BEGIN:VCALENDAR
VERSION:2.0
PRODID:-//www.eastwestcatholicschools.org//NONSGML kigkonsult.se iCalcreato
 r 2.30.10//
CALSCALE:GREGORIAN
METHOD:PUBLISH
UID:87f867c8-5540-491a-bd0c-e8cf9dd6676e
X-WR-CALDESC:
X-WR-RELCALID:653a5d45c3331a9c95f56ab64b4992b2
X-WR-TIMEZONE:America/Chicago
BEGIN:VTIMEZONE
TZID:America/Chicago
BEGIN:STANDARD
TZNAME:CST
DTSTART:20241103T020000
TZOFFSETFROM:-0500
TZOFFSETTO:-0600
RDATE:20251102T020000
RDATE:20261101T020000
END:STANDARD
BEGIN:DAYLIGHT
TZNAME:CDT
DTSTART:20250309T020000
TZOFFSETFROM:-0600
TZOFFSETTO:-0500
RDATE:20260308T020000
END:DAYLIGHT
END:VTIMEZONE
BEGIN:VEVENT
UID:d7e9fa00-8524-4470-bd9a-8cd9a0d750a2
DTSTAMP:20260421T130754Z
DESCRIPTION:
DTSTART;TZID=America/Chicago:20250515T140000
DTEND;TZID=America/Chicago:20250515T153000
LOCATION:
SUMMARY:6th Grade Recognition
END:VEVENT
END:VCALENDAR
