BEGIN:VCALENDAR
VERSION:2.0
PRODID:-//www.eastwestcatholicschools.org//NONSGML kigkonsult.se iCalcreato
 r 2.30.10//
CALSCALE:GREGORIAN
METHOD:PUBLISH
UID:298c360a-4e99-4acc-8013-ece0fc075d3a
X-WR-CALDESC:
X-WR-RELCALID:0f536667865ef001e207ae85e9c0c391
X-WR-TIMEZONE:America/Chicago
BEGIN:VTIMEZONE
TZID:America/Chicago
BEGIN:STANDARD
TZNAME:CST
DTSTART:20241103T020000
TZOFFSETFROM:-0500
TZOFFSETTO:-0600
RDATE:20251102T020000
RDATE:20261101T020000
END:STANDARD
BEGIN:DAYLIGHT
TZNAME:CDT
DTSTART:20250309T020000
TZOFFSETFROM:-0600
TZOFFSETTO:-0500
RDATE:20260308T020000
END:DAYLIGHT
END:VTIMEZONE
BEGIN:VEVENT
UID:2e876f22-180a-4abd-8827-5394d016edc1
DTSTAMP:20260421T130703Z
DESCRIPTION:
DTSTART;TZID=America/Chicago:20250519T050000
DTEND;TZID=America/Chicago:20250519T050001
LOCATION:Broom Tree
SUMMARY:All School Retreat
END:VEVENT
END:VCALENDAR
