BEGIN:VCALENDAR
VERSION:2.0
PRODID:-//www.eastwestcatholicschools.org//NONSGML kigkonsult.se iCalcreato
 r 2.30.10//
CALSCALE:GREGORIAN
METHOD:PUBLISH
UID:14456ff4-d2ca-4cf0-b029-94d350f2fed5
X-WR-CALDESC:
X-WR-RELCALID:1ce511191ce553d25294bc2607dae5fd
X-WR-TIMEZONE:America/Chicago
BEGIN:VTIMEZONE
TZID:America/Chicago
BEGIN:STANDARD
TZNAME:CST
DTSTART:20241103T020000
TZOFFSETFROM:-0500
TZOFFSETTO:-0600
RDATE:20251102T020000
RDATE:20261101T020000
END:STANDARD
BEGIN:DAYLIGHT
TZNAME:CDT
DTSTART:20250309T020000
TZOFFSETFROM:-0600
TZOFFSETTO:-0500
RDATE:20260308T020000
END:DAYLIGHT
END:VTIMEZONE
BEGIN:VEVENT
UID:967dd82b-3d31-49f2-9215-afda31da863a
DTSTAMP:20260421T130216Z
DESCRIPTION:
DTSTART;TZID=America/Chicago:20250520T050000
DTEND;TZID=America/Chicago:20250520T050001
LOCATION:
SUMMARY:Last Day of School - 12:15 Dismissal
END:VEVENT
END:VCALENDAR
