BEGIN:VCALENDAR
VERSION:2.0
PRODID:-//www.eastwestcatholicschools.org//NONSGML kigkonsult.se iCalcreato
 r 2.30.10//
CALSCALE:GREGORIAN
METHOD:PUBLISH
UID:fab3997c-bed0-44d9-9528-d141691f1753
X-WR-CALDESC:
X-WR-RELCALID:d39bc30bd0d3782e72a42348e794b49b
X-WR-TIMEZONE:America/Chicago
BEGIN:VTIMEZONE
TZID:America/Chicago
BEGIN:STANDARD
TZNAME:CST
DTSTART:20241103T020000
TZOFFSETFROM:-0500
TZOFFSETTO:-0600
RDATE:20251102T020000
RDATE:20261101T020000
END:STANDARD
BEGIN:DAYLIGHT
TZNAME:CDT
DTSTART:20250309T020000
TZOFFSETFROM:-0600
TZOFFSETTO:-0500
RDATE:20260308T020000
END:DAYLIGHT
END:VTIMEZONE
BEGIN:VEVENT
UID:4cb21b61-4811-45c6-997c-692212aaee48
DTSTAMP:20260421T084538Z
DESCRIPTION:
DTSTART;TZID=America/Chicago:20250805T050000
DTEND;TZID=America/Chicago:20250805T050001
LOCATION:
SUMMARY:Teacher / Staff retreat
END:VEVENT
END:VCALENDAR
