BEGIN:VCALENDAR
VERSION:2.0
PRODID:-//www.eastwestcatholicschools.org//NONSGML kigkonsult.se iCalcreato
 r 2.30.10//
CALSCALE:GREGORIAN
METHOD:PUBLISH
UID:1797e4aa-9e8c-47c0-a1aa-46a142bd7d3e
X-WR-CALDESC:
X-WR-RELCALID:81f888bc699167b96e1d531b69e0fdac
X-WR-TIMEZONE:America/Chicago
BEGIN:VTIMEZONE
TZID:America/Chicago
BEGIN:STANDARD
TZNAME:CST
DTSTART:20241103T020000
TZOFFSETFROM:-0500
TZOFFSETTO:-0600
RDATE:20251102T020000
RDATE:20261101T020000
END:STANDARD
BEGIN:DAYLIGHT
TZNAME:CDT
DTSTART:20250309T020000
TZOFFSETFROM:-0600
TZOFFSETTO:-0500
RDATE:20260308T020000
END:DAYLIGHT
END:VTIMEZONE
BEGIN:VEVENT
UID:014cd585-a0b1-41f0-bb93-30b56fbcd925
DTSTAMP:20260421T090452Z
DESCRIPTION:
DTSTART;TZID=America/Chicago:20250811T050000
DTEND;TZID=America/Chicago:20250813T050001
LOCATION:
SUMMARY:Teacher / Staff Work Days
END:VEVENT
END:VCALENDAR
