BEGIN:VCALENDAR
VERSION:2.0
PRODID:-//www.eastwestcatholicschools.org//NONSGML kigkonsult.se iCalcreato
 r 2.30.10//
CALSCALE:GREGORIAN
METHOD:PUBLISH
UID:ecef4e73-e32a-4066-99a7-2a7cce60f077
X-WR-CALDESC:
X-WR-RELCALID:d853bbcb871a492b0bbf50d0732fa944
X-WR-TIMEZONE:America/Chicago
BEGIN:VTIMEZONE
TZID:America/Chicago
BEGIN:STANDARD
TZNAME:CST
DTSTART:20241103T020000
TZOFFSETFROM:-0500
TZOFFSETTO:-0600
RDATE:20251102T020000
RDATE:20261101T020000
END:STANDARD
BEGIN:DAYLIGHT
TZNAME:CDT
DTSTART:20250309T020000
TZOFFSETFROM:-0600
TZOFFSETTO:-0500
RDATE:20260308T020000
END:DAYLIGHT
END:VTIMEZONE
BEGIN:VEVENT
UID:ac210dd8-b465-49a5-b8b9-521a1c36d01e
DTSTAMP:20260421T090639Z
DESCRIPTION:
DTSTART;TZID=America/Chicago:20250814T050000
DTEND;TZID=America/Chicago:20250814T050001
LOCATION:
SUMMARY:1st Day for PreK & Gr. 1-6 / 2:15 dismissal
END:VEVENT
END:VCALENDAR
