BEGIN:VCALENDAR
VERSION:2.0
PRODID:-//www.eastwestcatholicschools.org//NONSGML kigkonsult.se iCalcreato
 r 2.30.10//
CALSCALE:GREGORIAN
METHOD:PUBLISH
UID:175b9090-c7d3-424a-beb0-cd3b19756223
X-WR-CALDESC:
X-WR-RELCALID:13bce2fbe9a9b2435dbf7810f8eb8d26
X-WR-TIMEZONE:America/Chicago
BEGIN:VTIMEZONE
TZID:America/Chicago
BEGIN:STANDARD
TZNAME:CST
DTSTART:20241103T020000
TZOFFSETFROM:-0500
TZOFFSETTO:-0600
RDATE:20251102T020000
RDATE:20261101T020000
END:STANDARD
BEGIN:DAYLIGHT
TZNAME:CDT
DTSTART:20250309T020000
TZOFFSETFROM:-0600
TZOFFSETTO:-0500
RDATE:20260308T020000
END:DAYLIGHT
END:VTIMEZONE
BEGIN:VEVENT
UID:3ed17357-ac0a-4edb-a8ae-378f5c6547fb
DTSTAMP:20260421T090125Z
DESCRIPTION:
DTSTART;TZID=America/Chicago:20250815T050000
DTEND;TZID=America/Chicago:20250815T050001
LOCATION:
SUMMARY:1st Day for Kindergarten
END:VEVENT
END:VCALENDAR
