BEGIN:VCALENDAR
VERSION:2.0
PRODID:-//www.eastwestcatholicschools.org//NONSGML kigkonsult.se iCalcreato
 r 2.30.10//
CALSCALE:GREGORIAN
METHOD:PUBLISH
UID:67b94228-69b1-4b9e-8e37-4d6e0f3eb1a2
X-WR-CALDESC:
X-WR-RELCALID:3f8ee9ee9c09e6055cbac79c1783ee2b
X-WR-TIMEZONE:America/Chicago
BEGIN:VTIMEZONE
TZID:America/Chicago
BEGIN:STANDARD
TZNAME:CST
DTSTART:20241103T020000
TZOFFSETFROM:-0500
TZOFFSETTO:-0600
RDATE:20251102T020000
RDATE:20261101T020000
END:STANDARD
BEGIN:DAYLIGHT
TZNAME:CDT
DTSTART:20250309T020000
TZOFFSETFROM:-0600
TZOFFSETTO:-0500
RDATE:20260308T020000
END:DAYLIGHT
END:VTIMEZONE
BEGIN:VEVENT
UID:f3e07851-afb2-4f45-872e-2dc8dce17f4c
DTSTAMP:20260421T085756Z
DESCRIPTION:
DTSTART;TZID=America/Chicago:20250815T050000
DTEND;TZID=America/Chicago:20250815T050001
LOCATION:
SUMMARY:Assumption
END:VEVENT
END:VCALENDAR
