BEGIN:VCALENDAR
VERSION:2.0
PRODID:-//www.eastwestcatholicschools.org//NONSGML kigkonsult.se iCalcreato
 r 2.30.10//
CALSCALE:GREGORIAN
METHOD:PUBLISH
UID:c2c624c6-1fa4-4c4f-bd80-fbad476c5e9b
X-WR-CALDESC:
X-WR-RELCALID:3932c2ff668b82ff24a9a4417d0cb5b1
X-WR-TIMEZONE:America/Chicago
BEGIN:VTIMEZONE
TZID:America/Chicago
BEGIN:STANDARD
TZNAME:CST
DTSTART:20241103T020000
TZOFFSETFROM:-0500
TZOFFSETTO:-0600
RDATE:20251102T020000
RDATE:20261101T020000
END:STANDARD
BEGIN:DAYLIGHT
TZNAME:CDT
DTSTART:20250309T020000
TZOFFSETFROM:-0600
TZOFFSETTO:-0500
RDATE:20260308T020000
END:DAYLIGHT
END:VTIMEZONE
BEGIN:VEVENT
UID:6a7f1ca2-d695-4c0f-8073-319f9d8d78cc
DTSTAMP:20260421T090117Z
DESCRIPTION:
DTSTART;TZID=America/Chicago:20250825T050000
DTEND;TZID=America/Chicago:20250825T050001
LOCATION:
SUMMARY:STAR testing window / Aug. 25- Sep. 19
END:VEVENT
END:VCALENDAR
