BEGIN:VCALENDAR
VERSION:2.0
PRODID:-//www.eastwestcatholicschools.org//NONSGML kigkonsult.se iCalcreato
 r 2.30.10//
CALSCALE:GREGORIAN
METHOD:PUBLISH
UID:f841bb6f-91f5-492f-94ff-ad70d61a461f
X-WR-CALDESC:
X-WR-RELCALID:af19fa90f971b4945b904f9082a4d88c
X-WR-TIMEZONE:America/Chicago
BEGIN:VTIMEZONE
TZID:America/Chicago
BEGIN:STANDARD
TZNAME:CST
DTSTART:20241103T020000
TZOFFSETFROM:-0500
TZOFFSETTO:-0600
RDATE:20251102T020000
RDATE:20261101T020000
END:STANDARD
BEGIN:DAYLIGHT
TZNAME:CDT
DTSTART:20250309T020000
TZOFFSETFROM:-0600
TZOFFSETTO:-0500
RDATE:20260308T020000
RDATE:20270314T020000
END:DAYLIGHT
END:VTIMEZONE
BEGIN:VEVENT
UID:2acf32f1-ef79-4cf0-bc0f-da078e50f1cc
DTSTAMP:20260421T070150Z
DESCRIPTION:
DTSTART;TZID=America/Chicago:20250919T050000
DTEND;TZID=America/Chicago:20250919T050001
LOCATION:
SUMMARY:Cedar Homecoming
END:VEVENT
END:VCALENDAR
