BEGIN:VCALENDAR
VERSION:2.0
PRODID:-//www.eastwestcatholicschools.org//NONSGML kigkonsult.se iCalcreato
 r 2.30.10//
CALSCALE:GREGORIAN
METHOD:PUBLISH
UID:f0dde6c2-a461-4363-93cf-e9b8ef33005c
X-WR-CALDESC:
X-WR-RELCALID:30d454ef4ebc355948978c8f6f8dd5ee
X-WR-TIMEZONE:America/Chicago
BEGIN:VTIMEZONE
TZID:America/Chicago
BEGIN:STANDARD
TZNAME:CST
DTSTART:20241103T020000
TZOFFSETFROM:-0500
TZOFFSETTO:-0600
RDATE:20251102T020000
RDATE:20261101T020000
END:STANDARD
BEGIN:DAYLIGHT
TZNAME:CDT
DTSTART:20250309T020000
TZOFFSETFROM:-0600
TZOFFSETTO:-0500
RDATE:20260308T020000
RDATE:20270314T020000
END:DAYLIGHT
END:VTIMEZONE
BEGIN:VEVENT
UID:18541273-c4cd-48b9-a175-a476534030d6
DTSTAMP:20260421T052008Z
DESCRIPTION:
DTSTART;TZID=America/Chicago:20251001T050000
DTEND;TZID=America/Chicago:20251001T050001
LOCATION:
SUMMARY:Teacher Inservice - No School
END:VEVENT
END:VCALENDAR
