BEGIN:VCALENDAR
VERSION:2.0
PRODID:-//www.eastwestcatholicschools.org//NONSGML kigkonsult.se iCalcreato
 r 2.30.10//
CALSCALE:GREGORIAN
METHOD:PUBLISH
UID:4b772852-e60f-4513-b554-4d501e23af84
X-WR-CALDESC:
X-WR-RELCALID:57a39d6cc81ce2faa39c1baf9708a8dd
X-WR-TIMEZONE:America/Chicago
BEGIN:VTIMEZONE
TZID:America/Chicago
BEGIN:STANDARD
TZNAME:CST
DTSTART:20241103T020000
TZOFFSETFROM:-0500
TZOFFSETTO:-0600
RDATE:20251102T020000
RDATE:20261101T020000
END:STANDARD
BEGIN:DAYLIGHT
TZNAME:CDT
DTSTART:20250309T020000
TZOFFSETFROM:-0600
TZOFFSETTO:-0500
RDATE:20260308T020000
RDATE:20270314T020000
END:DAYLIGHT
END:VTIMEZONE
BEGIN:VEVENT
UID:074a3043-a5f1-4f9f-ba10-77a071846886
DTSTAMP:20260421T053747Z
DESCRIPTION:
DTSTART;TZID=America/Chicago:20251015T050000
DTEND;TZID=America/Chicago:20251015T050001
LOCATION:
SUMMARY:End of 1st Quarter
END:VEVENT
END:VCALENDAR
