BEGIN:VCALENDAR
VERSION:2.0
PRODID:-//www.eastwestcatholicschools.org//NONSGML kigkonsult.se iCalcreato
 r 2.30.10//
CALSCALE:GREGORIAN
METHOD:PUBLISH
UID:116f4b5a-4856-4919-a960-59576bd856e5
X-WR-CALDESC:
X-WR-RELCALID:b2e953a32a865b7df6b55cb5cc23d468
X-WR-TIMEZONE:America/Chicago
BEGIN:VTIMEZONE
TZID:America/Chicago
BEGIN:STANDARD
TZNAME:CST
DTSTART:20241103T020000
TZOFFSETFROM:-0500
TZOFFSETTO:-0600
RDATE:20251102T020000
RDATE:20261101T020000
END:STANDARD
BEGIN:DAYLIGHT
TZNAME:CDT
DTSTART:20250309T020000
TZOFFSETFROM:-0600
TZOFFSETTO:-0500
RDATE:20260308T020000
RDATE:20270314T020000
END:DAYLIGHT
END:VTIMEZONE
BEGIN:VEVENT
UID:e52132a0-9e96-468b-9bfd-6fd5cbb1f053
DTSTAMP:20260421T053233Z
DESCRIPTION:
DTSTART;TZID=America/Chicago:20251022T050000
DTEND;TZID=America/Chicago:20251022T050001
LOCATION:
SUMMARY:P/T Conferences - No School
END:VEVENT
END:VCALENDAR
