BEGIN:VCALENDAR
VERSION:2.0
PRODID:-//www.eastwestcatholicschools.org//NONSGML kigkonsult.se iCalcreato
 r 2.30.10//
CALSCALE:GREGORIAN
METHOD:PUBLISH
UID:3fb5cd24-1319-48ba-b186-42d9e848652a
X-WR-CALDESC:
X-WR-RELCALID:d8ba4510314b0659ae60e3cfe90d7c0a
X-WR-TIMEZONE:America/Chicago
BEGIN:VTIMEZONE
TZID:America/Chicago
BEGIN:STANDARD
TZNAME:CST
DTSTART:20241103T020000
TZOFFSETFROM:-0500
TZOFFSETTO:-0600
RDATE:20251102T020000
RDATE:20261101T020000
END:STANDARD
BEGIN:DAYLIGHT
TZNAME:CDT
DTSTART:20250309T020000
TZOFFSETFROM:-0600
TZOFFSETTO:-0500
RDATE:20260308T020000
RDATE:20270314T020000
END:DAYLIGHT
END:VTIMEZONE
BEGIN:VEVENT
UID:71627db5-31fd-426b-8f72-80fd8a1e7eed
DTSTAMP:20260421T053340Z
DESCRIPTION:
DTSTART;TZID=America/Chicago:20251023T050000
DTEND;TZID=America/Chicago:20251023T050001
LOCATION:
SUMMARY:12:15 Dismissal
END:VEVENT
END:VCALENDAR
