BEGIN:VCALENDAR
VERSION:2.0
PRODID:-//www.eastwestcatholicschools.org//NONSGML kigkonsult.se iCalcreato
 r 2.30.10//
CALSCALE:GREGORIAN
METHOD:PUBLISH
UID:3569baec-34ea-4bb2-96bd-e52632254481
X-WR-CALDESC:
X-WR-RELCALID:be4bc152fc1e1b32c71971eaeff8c73d
X-WR-TIMEZONE:America/Chicago
BEGIN:VTIMEZONE
TZID:America/Chicago
BEGIN:STANDARD
TZNAME:CST
DTSTART:20241103T020000
TZOFFSETFROM:-0500
TZOFFSETTO:-0600
RDATE:20251102T020000
RDATE:20261101T020000
END:STANDARD
BEGIN:DAYLIGHT
TZNAME:CDT
DTSTART:20250309T020000
TZOFFSETFROM:-0600
TZOFFSETTO:-0500
RDATE:20260308T020000
RDATE:20270314T020000
END:DAYLIGHT
END:VTIMEZONE
BEGIN:VEVENT
UID:65eee5cf-6aec-4a2b-abbe-dac2e11a935b
DTSTAMP:20260421T053345Z
DESCRIPTION:
DTSTART;TZID=America/Chicago:20251024T050000
DTEND;TZID=America/Chicago:20251024T050001
LOCATION:
SUMMARY:No School - Fall Break
END:VEVENT
END:VCALENDAR
