BEGIN:VCALENDAR
VERSION:2.0
PRODID:-//www.eastwestcatholicschools.org//NONSGML kigkonsult.se iCalcreato
 r 2.30.10//
CALSCALE:GREGORIAN
METHOD:PUBLISH
UID:93c3b286-3001-4bc6-bb8a-82fe3d1b80ef
X-WR-CALDESC:
X-WR-RELCALID:b2527c038c40e0c73f4e19f40fe47b45
X-WR-TIMEZONE:America/Chicago
BEGIN:VTIMEZONE
TZID:America/Chicago
BEGIN:STANDARD
TZNAME:CST
DTSTART:20251102T020000
TZOFFSETFROM:-0500
TZOFFSETTO:-0600
RDATE:20261101T020000
END:STANDARD
BEGIN:DAYLIGHT
TZNAME:CDT
DTSTART:20250309T020000
TZOFFSETFROM:-0600
TZOFFSETTO:-0500
RDATE:20260308T020000
RDATE:20270314T020000
END:DAYLIGHT
END:VTIMEZONE
BEGIN:VEVENT
UID:3e35dee9-562f-4cac-9fe3-f45459b3dc2e
DTSTAMP:20260421T034907Z
DESCRIPTION:
DTSTART;TZID=America/Chicago:20251105T050000
DTEND;TZID=America/Chicago:20251105T050001
LOCATION:
SUMMARY:Teacher Inservice - No School
END:VEVENT
END:VCALENDAR
