BEGIN:VCALENDAR
VERSION:2.0
PRODID:-//www.eastwestcatholicschools.org//NONSGML kigkonsult.se iCalcreato
 r 2.30.10//
CALSCALE:GREGORIAN
METHOD:PUBLISH
UID:7a5ce672-8bce-4d72-b477-d15c734f1725
X-WR-CALDESC:
X-WR-RELCALID:c3ad3347c020b06e0c18632a6b1cc616
X-WR-TIMEZONE:America/Chicago
BEGIN:VTIMEZONE
TZID:America/Chicago
BEGIN:STANDARD
TZNAME:CST
DTSTART:20251102T020000
TZOFFSETFROM:-0500
TZOFFSETTO:-0600
RDATE:20261101T020000
END:STANDARD
BEGIN:DAYLIGHT
TZNAME:CDT
DTSTART:20250309T020000
TZOFFSETFROM:-0600
TZOFFSETTO:-0500
RDATE:20260308T020000
RDATE:20270314T020000
END:DAYLIGHT
END:VTIMEZONE
BEGIN:VEVENT
UID:3ae1852a-a3ac-4b25-b29c-90aac878fab5
DTSTAMP:20260421T033621Z
DESCRIPTION:
DTSTART;TZID=America/Chicago:20251126T050000
DTEND;TZID=America/Chicago:20251128T050001
LOCATION:
SUMMARY:Thanksgiving Break - No School
END:VEVENT
END:VCALENDAR
