BEGIN:VCALENDAR
VERSION:2.0
PRODID:-//www.eastwestcatholicschools.org//NONSGML kigkonsult.se iCalcreato
 r 2.30.10//
CALSCALE:GREGORIAN
METHOD:PUBLISH
UID:e7a425fa-a743-427b-a9ae-35c07dc77bae
X-WR-CALDESC:
X-WR-RELCALID:a03a99da7374adda60e472b8c9320c50
X-WR-TIMEZONE:America/Chicago
BEGIN:VTIMEZONE
TZID:America/Chicago
BEGIN:STANDARD
TZNAME:CST
DTSTART:20251102T020000
TZOFFSETFROM:-0500
TZOFFSETTO:-0600
RDATE:20261101T020000
END:STANDARD
BEGIN:DAYLIGHT
TZNAME:CDT
DTSTART:20250309T020000
TZOFFSETFROM:-0600
TZOFFSETTO:-0500
RDATE:20260308T020000
RDATE:20270314T020000
END:DAYLIGHT
END:VTIMEZONE
BEGIN:VEVENT
UID:116c78c5-e567-47b0-92c6-c1174e3f8e5c
DTSTAMP:20260421T020934Z
DESCRIPTION:
DTSTART;TZID=America/Chicago:20251203T050000
DTEND;TZID=America/Chicago:20251203T050001
LOCATION:
SUMMARY:Teacher Inservice - No School
END:VEVENT
END:VCALENDAR
