BEGIN:VCALENDAR
VERSION:2.0
PRODID:-//www.eastwestcatholicschools.org//NONSGML kigkonsult.se iCalcreato
 r 2.30.10//
CALSCALE:GREGORIAN
METHOD:PUBLISH
UID:2c761d33-d2be-487d-a60d-b29ae6849ce9
X-WR-CALDESC:
X-WR-RELCALID:47fc3f55518518726db041de934916d8
X-WR-TIMEZONE:America/Chicago
BEGIN:VTIMEZONE
TZID:America/Chicago
BEGIN:STANDARD
TZNAME:CST
DTSTART:20251102T020000
TZOFFSETFROM:-0500
TZOFFSETTO:-0600
RDATE:20261101T020000
END:STANDARD
BEGIN:DAYLIGHT
TZNAME:CDT
DTSTART:20250309T020000
TZOFFSETFROM:-0600
TZOFFSETTO:-0500
RDATE:20260308T020000
RDATE:20270314T020000
END:DAYLIGHT
END:VTIMEZONE
BEGIN:VEVENT
UID:13bcef8b-cbfc-4227-829e-dddd2f918be3
DTSTAMP:20260421T022836Z
DESCRIPTION:
DTSTART;TZID=America/Chicago:20251207T140000
DTEND;TZID=America/Chicago:20251207T153000
LOCATION:Immaculate Conception Parish Hall - St. Helena
SUMMARY:Christmas Concert
END:VEVENT
END:VCALENDAR
