BEGIN:VCALENDAR
VERSION:2.0
PRODID:-//www.eastwestcatholicschools.org//NONSGML kigkonsult.se iCalcreato
 r 2.30.10//
CALSCALE:GREGORIAN
METHOD:PUBLISH
UID:ddae924d-cca7-4f0e-81ea-7f422c231dfc
X-WR-CALDESC:
X-WR-RELCALID:00c91001f4d60949d240307256a132a8
X-WR-TIMEZONE:America/Chicago
BEGIN:VTIMEZONE
TZID:America/Chicago
BEGIN:STANDARD
TZNAME:CST
DTSTART:20251102T020000
TZOFFSETFROM:-0500
TZOFFSETTO:-0600
RDATE:20261101T020000
END:STANDARD
BEGIN:DAYLIGHT
TZNAME:CDT
DTSTART:20250309T020000
TZOFFSETFROM:-0600
TZOFFSETTO:-0500
RDATE:20260308T020000
RDATE:20270314T020000
END:DAYLIGHT
END:VTIMEZONE
BEGIN:VEVENT
UID:9a2fd69a-a50e-4fe8-9ae3-99d89b63ffca
DTSTAMP:20260421T020229Z
DESCRIPTION:
DTSTART;TZID=America/Chicago:20251209T050000
DTEND;TZID=America/Chicago:20251210T050001
LOCATION:
SUMMARY:External Visit
END:VEVENT
END:VCALENDAR
