BEGIN:VCALENDAR
VERSION:2.0
PRODID:-//www.eastwestcatholicschools.org//NONSGML kigkonsult.se iCalcreato
 r 2.30.10//
CALSCALE:GREGORIAN
METHOD:PUBLISH
UID:8ea7c2b6-7e4d-4b75-9b80-b2b2bbd2e540
X-WR-CALDESC:
X-WR-RELCALID:adaf1e9b23862a5c62b0a147ee7ecf1c
X-WR-TIMEZONE:America/Chicago
BEGIN:VTIMEZONE
TZID:America/Chicago
BEGIN:STANDARD
TZNAME:CST
DTSTART:20251102T020000
TZOFFSETFROM:-0500
TZOFFSETTO:-0600
RDATE:20261101T020000
END:STANDARD
BEGIN:DAYLIGHT
TZNAME:CDT
DTSTART:20250309T020000
TZOFFSETFROM:-0600
TZOFFSETTO:-0500
RDATE:20260308T020000
RDATE:20270314T020000
END:DAYLIGHT
END:VTIMEZONE
BEGIN:VEVENT
UID:d47c3579-8744-4ab9-bfcb-73e0e18d1d8c
DTSTAMP:20260421T021701Z
DESCRIPTION:
DTSTART;TZID=America/Chicago:20251219T050000
DTEND;TZID=America/Chicago:20251219T050001
LOCATION:
SUMMARY:End of 2nd Quarter / Early Dismissal
END:VEVENT
END:VCALENDAR
