BEGIN:VCALENDAR
VERSION:2.0
PRODID:-//www.eastwestcatholicschools.org//NONSGML kigkonsult.se iCalcreato
 r 2.30.10//
CALSCALE:GREGORIAN
METHOD:PUBLISH
UID:a6c830ab-263e-41cc-b8fd-2e068f50b54d
X-WR-CALDESC:
X-WR-RELCALID:290460eac5ed3d3d96558e610ecc06c2
X-WR-TIMEZONE:America/Chicago
BEGIN:VTIMEZONE
TZID:America/Chicago
BEGIN:STANDARD
TZNAME:CST
DTSTART:20251102T020000
TZOFFSETFROM:-0500
TZOFFSETTO:-0600
RDATE:20261101T020000
END:STANDARD
BEGIN:DAYLIGHT
TZNAME:CDT
DTSTART:20250309T020000
TZOFFSETFROM:-0600
TZOFFSETTO:-0500
RDATE:20260308T020000
RDATE:20270314T020000
END:DAYLIGHT
END:VTIMEZONE
BEGIN:VEVENT
UID:b1e0ee1f-0ee0-44fe-9d99-34827cc01774
DTSTAMP:20260421T003409Z
DESCRIPTION:
DTSTART;TZID=America/Chicago:20251222T183000
DTEND;TZID=America/Chicago:20260105T193000
LOCATION:
SUMMARY:Christmas Break - No School
END:VEVENT
END:VCALENDAR
