BEGIN:VCALENDAR
VERSION:2.0
PRODID:-//www.eastwestcatholicschools.org//NONSGML kigkonsult.se iCalcreato
 r 2.30.10//
CALSCALE:GREGORIAN
METHOD:PUBLISH
UID:4d673696-f56e-4605-856d-417c25811e49
X-WR-CALDESC:
X-WR-RELCALID:53c4793e394728da066033a1619c9e59
X-WR-TIMEZONE:America/Chicago
BEGIN:VTIMEZONE
TZID:America/Chicago
BEGIN:STANDARD
TZNAME:CST
DTSTART:20251102T020000
TZOFFSETFROM:-0500
TZOFFSETTO:-0600
RDATE:20261101T020000
END:STANDARD
BEGIN:DAYLIGHT
TZNAME:CDT
DTSTART:20250309T020000
TZOFFSETFROM:-0600
TZOFFSETTO:-0500
RDATE:20260308T020000
RDATE:20270314T020000
END:DAYLIGHT
END:VTIMEZONE
BEGIN:VEVENT
UID:fc198198-1148-4dae-8aa1-bab5d084c718
DTSTAMP:20260421T003241Z
DESCRIPTION:
DTSTART;TZID=America/Chicago:20260105T050000
DTEND;TZID=America/Chicago:20260105T050001
LOCATION:
SUMMARY:Teacher Inservice
END:VEVENT
END:VCALENDAR
