BEGIN:VCALENDAR
VERSION:2.0
PRODID:-//www.eastwestcatholicschools.org//NONSGML kigkonsult.se iCalcreato
 r 2.30.10//
CALSCALE:GREGORIAN
METHOD:PUBLISH
UID:416bfab2-fefb-4de3-a2fc-0331bb850461
X-WR-CALDESC:
X-WR-RELCALID:7803c9238b8eb5345aba94d88efb1db1
X-WR-TIMEZONE:America/Chicago
BEGIN:VTIMEZONE
TZID:America/Chicago
BEGIN:STANDARD
TZNAME:CST
DTSTART:20251102T020000
TZOFFSETFROM:-0500
TZOFFSETTO:-0600
RDATE:20261101T020000
END:STANDARD
BEGIN:DAYLIGHT
TZNAME:CDT
DTSTART:20250309T020000
TZOFFSETFROM:-0600
TZOFFSETTO:-0500
RDATE:20260308T020000
RDATE:20270314T020000
END:DAYLIGHT
END:VTIMEZONE
BEGIN:VEVENT
UID:f29cb776-f98d-4750-8cd8-b097863cb913
DTSTAMP:20260421T003645Z
DESCRIPTION:
DTSTART;TZID=America/Chicago:20260106T050000
DTEND;TZID=America/Chicago:20260106T050001
LOCATION:
SUMMARY:School resumes
END:VEVENT
END:VCALENDAR
