BEGIN:VCALENDAR
VERSION:2.0
PRODID:-//www.eastwestcatholicschools.org//NONSGML kigkonsult.se iCalcreato
 r 2.30.10//
CALSCALE:GREGORIAN
METHOD:PUBLISH
UID:3934ec0d-66e5-4888-9421-44a365564962
X-WR-CALDESC:
X-WR-RELCALID:0f295ce2eb412e82a7f753f5be24a40b
X-WR-TIMEZONE:America/Chicago
BEGIN:VTIMEZONE
TZID:America/Chicago
BEGIN:STANDARD
TZNAME:CST
DTSTART:20251102T020000
TZOFFSETFROM:-0500
TZOFFSETTO:-0600
RDATE:20261101T020000
END:STANDARD
BEGIN:DAYLIGHT
TZNAME:CDT
DTSTART:20250309T020000
TZOFFSETFROM:-0600
TZOFFSETTO:-0500
RDATE:20260308T020000
RDATE:20270314T020000
END:DAYLIGHT
END:VTIMEZONE
BEGIN:VEVENT
UID:9211fbf2-dcc5-42e7-bf58-0d1eedba0ff2
DTSTAMP:20260421T003705Z
DESCRIPTION:
DTSTART;TZID=America/Chicago:20260112T050000
DTEND;TZID=America/Chicago:20260112T050001
LOCATION:
SUMMARY:STAR testing window - Jan. 12- Feb. 6
END:VEVENT
END:VCALENDAR
