BEGIN:VCALENDAR
VERSION:2.0
PRODID:-//www.eastwestcatholicschools.org//NONSGML kigkonsult.se iCalcreato
 r 2.30.10//
CALSCALE:GREGORIAN
METHOD:PUBLISH
UID:0be97c4b-a0a3-492d-aa86-e426e8c4f8fb
X-WR-CALDESC:
X-WR-RELCALID:5891ea1c602cc49c1258fcfdc36d573c
X-WR-TIMEZONE:America/Chicago
BEGIN:VTIMEZONE
TZID:America/Chicago
BEGIN:STANDARD
TZNAME:CST
DTSTART:20251102T020000
TZOFFSETFROM:-0500
TZOFFSETTO:-0600
RDATE:20261101T020000
END:STANDARD
BEGIN:DAYLIGHT
TZNAME:CDT
DTSTART:20250309T020000
TZOFFSETFROM:-0600
TZOFFSETTO:-0500
RDATE:20260308T020000
RDATE:20270314T020000
END:DAYLIGHT
END:VTIMEZONE
BEGIN:VEVENT
UID:be0c9874-c05f-42e1-893a-f91139f13513
DTSTAMP:20260421T000842Z
DESCRIPTION:
DTSTART;TZID=America/Chicago:20260125T050000
DTEND;TZID=America/Chicago:20260125T050001
LOCATION:Sacred Heart Hall - Wynot
SUMMARY:CSW Breakfast (EWC)
END:VEVENT
END:VCALENDAR
