BEGIN:VCALENDAR
VERSION:2.0
PRODID:-//www.eastwestcatholicschools.org//NONSGML kigkonsult.se iCalcreato
 r 2.30.10//
CALSCALE:GREGORIAN
METHOD:PUBLISH
UID:256c0f4e-3777-4237-a8dc-ad79035c6db1
X-WR-CALDESC:
X-WR-RELCALID:0999fc5317d2b3022fcfcd64b38c3077
X-WR-TIMEZONE:America/Chicago
BEGIN:VTIMEZONE
TZID:America/Chicago
BEGIN:STANDARD
TZNAME:CST
DTSTART:20251102T020000
TZOFFSETFROM:-0500
TZOFFSETTO:-0600
RDATE:20261101T020000
END:STANDARD
BEGIN:DAYLIGHT
TZNAME:CDT
DTSTART:20250309T020000
TZOFFSETFROM:-0600
TZOFFSETTO:-0500
RDATE:20260308T020000
RDATE:20270314T020000
END:DAYLIGHT
END:VTIMEZONE
BEGIN:VEVENT
UID:2da68d9a-6fd0-4bf6-8bb8-6c7b951e41c0
DTSTAMP:20260420T224214Z
DESCRIPTION:
DTSTART;TZID=America/Chicago:20260204T050000
DTEND;TZID=America/Chicago:20260204T050001
LOCATION:
SUMMARY:Teacher Inservice - No School
END:VEVENT
END:VCALENDAR
