BEGIN:VCALENDAR
VERSION:2.0
PRODID:-//www.eastwestcatholicschools.org//NONSGML kigkonsult.se iCalcreato
 r 2.30.10//
CALSCALE:GREGORIAN
METHOD:PUBLISH
UID:bb892678-b7ff-4450-81f7-00aa0d6ba192
X-WR-CALDESC:
X-WR-RELCALID:a0cd8598516c73e560d69d9e904c8f75
X-WR-TIMEZONE:America/Chicago
BEGIN:VTIMEZONE
TZID:America/Chicago
BEGIN:STANDARD
TZNAME:CST
DTSTART:20251102T020000
TZOFFSETFROM:-0500
TZOFFSETTO:-0600
RDATE:20261101T020000
END:STANDARD
BEGIN:DAYLIGHT
TZNAME:CDT
DTSTART:20250309T020000
TZOFFSETFROM:-0600
TZOFFSETTO:-0500
RDATE:20260308T020000
RDATE:20270314T020000
END:DAYLIGHT
END:VTIMEZONE
BEGIN:VEVENT
UID:21f92c3c-6dbd-4de8-9d41-ec39f67baa0f
DTSTAMP:20260420T224326Z
DESCRIPTION:
DTSTART;TZID=America/Chicago:20260213T050000
DTEND;TZID=America/Chicago:20260213T050001
LOCATION:
SUMMARY:P / T Conferences - No School
END:VEVENT
END:VCALENDAR
